BEGIN:VCALENDAR
VERSION:2.0
PRODID:-//Data Science Initiative - ECPv6.3.7//NONSGML v1.0//EN
CALSCALE:GREGORIAN
METHOD:PUBLISH
X-ORIGINAL-URL:https://datascience.uci.edu
X-WR-CALDESC:Events for Data Science Initiative
REFRESH-INTERVAL;VALUE=DURATION:PT1H
X-Robots-Tag:noindex
X-PUBLISHED-TTL:PT1H
BEGIN:VTIMEZONE
TZID:America/Los_Angeles
BEGIN:DAYLIGHT
TZOFFSETFROM:-0800
TZOFFSETTO:-0700
TZNAME:PDT
DTSTART:20160313T100000
END:DAYLIGHT
BEGIN:STANDARD
TZOFFSETFROM:-0700
TZOFFSETTO:-0800
TZNAME:PST
DTSTART:20161106T090000
END:STANDARD
END:VTIMEZONE
BEGIN:VEVENT
DTSTART;TZID=America/Los_Angeles:20160531T090000
DTEND;TZID=America/Los_Angeles:20160531T170000
DTSTAMP:20260422T082151
CREATED:20160601T125224Z
LAST-MODIFIED:20160601T125224Z
UID:1778-1464685200-1464714000@datascience.uci.edu
SUMMARY:Introduction to R
DESCRIPTION:This course provides an introduction to the fundamentals of the R language and its applications to data analysis. \nDate:May 31\, 2016 \nTime:9 a.m. to 5 p.m. with lunch provided \nLocation: Donald Bren Hall\, Room 3011 \n \nIn this course\, you will learn how to program in R and how to effectively use R for data analysis. The course covers introduction to data/object types in R\, reading data\, creating data visualizations\, accessing and installing R packages\, writing R functions\, fitting statistical models including regression models and performing statistical tests including t-tests and ANOVA. Practical examples will be provided during the course. \nDate:May 31\, 2016 \nTime:9 a.m. to 5 p.m. with lunch provided \nLocation: Donald Bren Hall\, Room 3011 \nInstructor: Emma Smith\, Wen He\, UC Irvine \nPre-requisites: 1) familiarity with basic statistical concepts\, and 2) basic programming knowledge. For the tutorial\, bring a laptop with R downloaded and installed and WiFi. \nTeaching material repository:https://github.com/UCIDataScienceInitiative/IntroR_Workshop
URL:https://datascience.uci.edu/event/introduction-to-r-7/
CATEGORIES:Data Science Event
ATTACH;FMTTYPE=:
END:VEVENT
END:VCALENDAR